BEGIN:VCALENDAR
VERSION:2.0
PRODID:-//ChamberMaster//Event Calendar 2.0//EN
METHOD:PUBLISH
X-PUBLISHED-TTL:P1H
REFRESH-INTERVAL:P1H
CALSCALE:GREGORIAN
BEGIN:VTIMEZONE
TZID:America/Los_Angeles
BEGIN:DAYLIGHT
RRULE:FREQ=YEARLY;BYMONTH=3;BYDAY=2SU
DTSTART:20070101T000000
TZOFFSETFROM:-0800
TZOFFSETTO:-0700
TZNAME:Pacific Daylight Time
END:DAYLIGHT
BEGIN:STANDARD
RRULE:FREQ=YEARLY;BYMONTH=11;BYDAY=1SU
DTSTART:20070101T000000
TZOFFSETFROM:-0700
TZOFFSETTO:-0800
TZNAME:Pacific Standard Time
END:STANDARD
END:VTIMEZONE
BEGIN:VEVENT
DTSTART;TZID=America/Los_Angeles:20260512T103000
DTEND;TZID=America/Los_Angeles:20260512T113000
X-MICROSOFT-CDO-ALLDAYEVENT:FALSE
SUMMARY:New Member Orientation
DESCRIPTION:Springfield REALTORS  New Member OrientationWelcome to Springfield REALTORS ! This one-hour New Member Orientation is designed to help you get connected\, compliant\, and ready to succeed in your real estate career.In this fast-paced\, high-value session\, you'll receive a local-focused overview of your membership\, including a recap of the REALTOR  Code of Ethics\, key rules and compliance essentials\, and an introduction to the Regional MLS (RMLS) and member tools. You'll also learn how to make the most of your membership through networking\, involvement opportunities\, and business-building resources.We'll cover practical success strategies for your first 60 90 days\, highlight the impact REALTORS  have in our community\, and explain how advocacy and RPAC protect your business. You'll leave with a clear action plan and the resources you need to get started with confidence.Whether you're brand new or transferring to the area\, this session will help you plug into the Springfield real estate community and hit the ground running.Duration: 1 hour\nWho should attend: New REALTOR  members of Springfield REALTORS
X-ALT-DESC;FMTTYPE=text/html:<!DOCTYPE html><html><head><title></title></head><body aria-disabled="false"><p data-end="130" data-start="82"><strong data-end="130" data-start="82" fr-original-style="" style="font-weight: 700\;">Springfield REALTORS&reg\; New Member Orientation</strong></p><p data-end="301" data-start="132">Welcome to Springfield REALTORS&reg\;! This one-hour New Member Orientation is designed to help you get connected\, compliant\, and ready to succeed in your real estate career.</p><p data-end="692" data-start="303">In this fast-paced\, high-value session\, you&rsquo\;ll receive a local-focused overview of your membership\, including a recap of the REALTOR&reg\; Code of Ethics\, key rules and compliance essentials\, and an introduction to the Regional MLS (RMLS) and member tools. You&rsquo\;ll also learn how to make the most of your membership through networking\, involvement opportunities\, and business-building resources.</p><p data-end="969" data-start="694">We&rsquo\;ll cover practical success strategies for your first 60&ndash\;90 days\, highlight the impact REALTORS&reg\; have in our community\, and explain how advocacy and RPAC protect your business. You&rsquo\;ll leave with a clear action plan and the resources you need to get started with confidence.</p><p data-end="1127" data-start="971">Whether you&rsquo\;re brand new or transferring to the area\, this session will help you plug into the Springfield real estate community and hit the ground running.</p><p data-end="1222" data-start="1129"><strong data-end="1142" data-start="1129" fr-original-style="" style="font-weight: 700\;">Duration:</strong> 1 hour<br data-start="1149" data-end="1152"><strong data-end="1174" data-start="1152" fr-original-style="" style="font-weight: 700\;">Who should attend:</strong> New REALTOR&reg\; members of Springfield REALTORS&reg\;</p></body></html>
LOCATION:1488 18th Street Springfield OR 97477
UID:e.3113.1444100
SEQUENCE:3
DTSTAMP:20260421T110543Z
URL:https://members.springfieldrealtors.realtor/eventcalendar/Details/new-member-orientation-1710411?sourceTypeId=Hub
END:VEVENT
END:VCALENDAR
