BEGIN:VCALENDAR
VERSION:2.0
PRODID:-//ChamberMaster//Event Calendar 2.0//EN
METHOD:PUBLISH
X-PUBLISHED-TTL:P1H
REFRESH-INTERVAL:P1H
CALSCALE:GREGORIAN
BEGIN:VTIMEZONE
TZID:America/Los_Angeles
BEGIN:DAYLIGHT
RRULE:FREQ=YEARLY;BYMONTH=3;BYDAY=2SU
DTSTART:20070101T000000
TZOFFSETFROM:-0800
TZOFFSETTO:-0700
TZNAME:Pacific Daylight Time
END:DAYLIGHT
BEGIN:STANDARD
RRULE:FREQ=YEARLY;BYMONTH=11;BYDAY=1SU
DTSTART:20070101T000000
TZOFFSETFROM:-0700
TZOFFSETTO:-0800
TZNAME:Pacific Standard Time
END:STANDARD
END:VTIMEZONE
BEGIN:VEVENT
DTSTART;TZID=America/Los_Angeles:20260422T150000
DTEND;TZID=America/Los_Angeles:20260422T180000
X-MICROSOFT-CDO-ALLDAYEVENT:FALSE
SUMMARY:Oregon Mortgage Association Presents Swinging of Shelter Golf
DESCRIPTION:Get ready to golf your heart out and help raise funds for a great cause at OMA Lane County Swinging for Shelter!Join us at Fore Seasons Golf Indoor Golf Simulator on April 22\, 2026 at 3:00 PM (PDT) for a fun afternoon of swinging clubs and supporting a great cause! Whether you're a golf pro or just looking to have a good time\, this event is all about community and making a difference. Don't miss out on the chance to connect\, laugh\, and help provide shelter for those in need. See you on the green! (Venue includes 5 golf simulators\, putting green\, full bar and additional food for purchase) $40/person to enter the building - includes 4 holes\, one shot at KP or LD\, and snacks.Click the Link Below to Get Your Tickets! https://www.eventbrite.com/e/oma-lane-county-swinging-for-shelter-tickets-1985330570179#location
X-ALT-DESC;FMTTYPE=text/html:<!DOCTYPE html><html><head><title></title></head><body aria-disabled="false"><p>Get ready to golf your heart out and help raise funds for a great cause at OMA Lane County Swinging for Shelter!</p><p>Join us at Fore Seasons Golf Indoor Golf Simulator on April 22\, 2026 at 3:00 PM (PDT) for a fun afternoon of swinging clubs and supporting a great cause! Whether you&#39\;re a golf pro or just looking to have a good time\, this event is all about community and making a difference. Don&rsquo\;t miss out on the chance to connect\, laugh\, and help provide shelter for those in need. See you on the green!&nbsp\;</p><p>(Venue includes 5 golf simulators\, putting green\, full bar and additional food for purchase)&nbsp\;</p><p>$40/person to enter the building - includes 4 holes\, one shot at KP or LD\, and snacks.</p><p><strong fr-original-style="" style="font-weight: 700\;">Click the Link Below to Get Your Tickets!&nbsp\;</strong></p><p><a fr-original-style="" href="https://www.eventbrite.com/e/oma-lane-county-swinging-for-shelter-tickets-1985330570179#location" style="-webkit-user-select: auto\;">https://www.eventbrite.com/e/oma-lane-county-swinging-for-shelter-tickets-1985330570179#location</a></p></body></html>
LOCATION:1069 Valley River Way #Space A Eugene 97401
UID:e.3113.1447398
SEQUENCE:3
DTSTAMP:20260421T111054Z
URL:https://members.springfieldrealtors.realtor/eventcalendar/Details/oregon-mortgage-association-presents-swinging-of-shelter-golf-1714335?sourceTypeId=Hub
END:VEVENT
END:VCALENDAR
