BEGIN:VCALENDAR
VERSION:2.0
PRODID:-//ChamberMaster//Event Calendar 2.0//EN
METHOD:PUBLISH
X-PUBLISHED-TTL:P1H
REFRESH-INTERVAL:P1H
CALSCALE:GREGORIAN
BEGIN:VTIMEZONE
TZID:America/Los_Angeles
BEGIN:DAYLIGHT
RRULE:FREQ=YEARLY;BYMONTH=3;BYDAY=2SU
DTSTART:20070101T000000
TZOFFSETFROM:-0800
TZOFFSETTO:-0700
TZNAME:Pacific Daylight Time
END:DAYLIGHT
BEGIN:STANDARD
RRULE:FREQ=YEARLY;BYMONTH=11;BYDAY=1SU
DTSTART:20070101T000000
TZOFFSETFROM:-0700
TZOFFSETTO:-0800
TZNAME:Pacific Standard Time
END:STANDARD
END:VTIMEZONE
BEGIN:VEVENT
DTSTART;TZID=America/Los_Angeles:20260714T130000
DTEND;TZID=America/Los_Angeles:20260714T140000
X-MICROSOFT-CDO-ALLDAYEVENT:FALSE
SUMMARY:SR In Person Education |Non-Traditional Lender Panel
DESCRIPTION:Moderator: Nick Carter
X-ALT-DESC;FMTTYPE=text/html:Moderator: Nick Carter
LOCATION:1488 18th Street Springfield OR 97477
UID:e.3113.1443831
SEQUENCE:3
DTSTAMP:20260421T110808Z
URL:https://members.springfieldrealtors.realtor/eventcalendar/Details/sr-in-person-education-non-traditional-lender-panel-1710077?sourceTypeId=Hub
END:VEVENT
END:VCALENDAR
